BEGIN:VCALENDAR
VERSION:2.0
PRODID:icalendar-ruby
CALSCALE:GREGORIAN
METHOD:PUBLISH
BEGIN:VEVENT
DTSTAMP:20260426T012032Z
UID:745-5052440@clp.church
DTSTART:20260619T013000Z
DTEND:20260619T023000Z
CLASS:PUBLIC
CREATED:20260423T135841
DESCRIPTION:No cowboy boots required!  Come join in the fun ... everyone i
 s welcome!
LAST-MODIFIED:20260423T135841
LOCATION:Souers Community Hall
SUMMARY:Line Dancing
URL;VALUE=URI:https://clp.church/events/line-dancing--745/2026-06-18
ATTACH;FILENAME=Line Dancing Lessons (19).png;FMTTYPE=image/png:https://dq5
 pwpg1q8ru0.cloudfront.net/2026/04/23/20/58/41/7cecead1-dc6c-4a8d-bb99-5ee1
 26aac370/Line%20Dancing%20Lessons%20(19).png
END:VEVENT
END:VCALENDAR
