BEGIN:VCALENDAR
VERSION:2.0
PRODID:icalendar-ruby
CALSCALE:GREGORIAN
METHOD:PUBLISH
BEGIN:VEVENT
DTSTAMP:20260423T113233Z
UID:111-5037357@clp.church
DTSTART:20260923T200000Z
DTEND:20260923T220000Z
CLASS:PUBLIC
CREATED:20260422T190429
DESCRIPTION:Like Canasta or want to learn this very easy\, very fun card ga
 me? Join It is in the Cards every first Wednesday at 1pm in Souers Hall.
  You do not need to bring anything\, as cards and directions will be ready
  for all. We begin with brief discussion on the Upper Room devotion for th
 e day\, and then get straight to the game!
LAST-MODIFIED:20260422T190429
LOCATION:Fireside Room North
SUMMARY:It's All In The Cards
URL;VALUE=URI:https://clp.church/events/its-all-in-the-cards/2026-09-23
ATTACH;FILENAME=Copy of Canasta.png;FMTTYPE=image/png:https://dq5pwpg1q8ru0
 .cloudfront.net/2026/02/17/19/51/40/82c32159-f36c-4fb4-b123-9144142341d9/C
 opy%20of%20Canasta.png
END:VEVENT
END:VCALENDAR
