BEGIN:VCALENDAR
VERSION:2.0
PRODID:icalendar-ruby
CALSCALE:GREGORIAN
METHOD:PUBLISH
BEGIN:VEVENT
DTSTAMP:20260425T234649Z
UID:742-4991113@clp.church
DTSTART:20260613T170000Z
DTEND:20260614T060000Z
CLASS:PUBLIC
CREATED:20260420T141753
DESCRIPTION:
LAST-MODIFIED:20260420T141753
LOCATION:
SUMMARY:Celebration of Life
URL;VALUE=URI:https://clp.church/events/celebration-of-life--742/2026-06-13
ATTACH;FILENAME=Copy of Celebration of Life Dortha Apland l1 x 6 in).png;FM
 TTYPE=image/png:https://dq5pwpg1q8ru0.cloudfront.net/2026/04/20/21/17/53/e
 cc4f39d-fe99-4203-9d2d-a1f1d469cd76/Copy%20of%20Celebration%20of%20Life%20
 Dortha%20Apland%20l1%20x%206%20in).png
END:VEVENT
END:VCALENDAR
